BEGIN:VCALENDAR
VERSION:2.0
PRODID:-//Libros y Bibliotecas - ECPv6.15.19//NONSGML v1.0//EN
CALSCALE:GREGORIAN
METHOD:PUBLISH
X-ORIGINAL-URL:https://librosybibliotecas.cl
X-WR-CALDESC:Eventos para Libros y Bibliotecas
REFRESH-INTERVAL;VALUE=DURATION:PT1H
X-Robots-Tag:noindex
X-PUBLISHED-TTL:PT1H
BEGIN:VTIMEZONE
TZID:America/Santiago
BEGIN:STANDARD
TZOFFSETFROM:-0300
TZOFFSETTO:-0400
TZNAME:-04
DTSTART:20200405T030000
END:STANDARD
BEGIN:DAYLIGHT
TZOFFSETFROM:-0400
TZOFFSETTO:-0300
TZNAME:-03
DTSTART:20200906T040000
END:DAYLIGHT
BEGIN:STANDARD
TZOFFSETFROM:-0300
TZOFFSETTO:-0400
TZNAME:-04
DTSTART:20210404T030000
END:STANDARD
BEGIN:DAYLIGHT
TZOFFSETFROM:-0400
TZOFFSETTO:-0300
TZNAME:-03
DTSTART:20210905T040000
END:DAYLIGHT
BEGIN:STANDARD
TZOFFSETFROM:-0300
TZOFFSETTO:-0400
TZNAME:-04
DTSTART:20220403T030000
END:STANDARD
BEGIN:DAYLIGHT
TZOFFSETFROM:-0400
TZOFFSETTO:-0300
TZNAME:-03
DTSTART:20220911T040000
END:DAYLIGHT
END:VTIMEZONE
BEGIN:VEVENT
DTSTART;TZID=America/Santiago:20210630T180000
DTEND;TZID=America/Santiago:20210630T190000
DTSTAMP:20260419T105014
CREATED:20210630T005205Z
LAST-MODIFIED:20210630T005205Z
UID:3449-1625076000-1625079600@librosybibliotecas.cl
SUMMARY:Obrer@s del Fomento Lector Cap 4 Fundación Chile Lee
DESCRIPTION:Cuarta sesión de este ciclo de conversaciones que intenta visibilizar la labor que personas e instituciones hacen por la promoción de la lectura desde la sociedad civil. \nEn esta ocasión el entrevistado es Carlos Soublette de la Fundación Chile Lee.
URL:https://librosybibliotecas.cl/evento/obrers-del-fomento-lector-cap-4-fundacion-chile-lee/
ATTACH;FMTTYPE=image/jpeg:https://librosybibliotecas.cl/wp-content/uploads/2021/06/Chile-Lee.jpg
END:VEVENT
END:VCALENDAR